BEGIN:VCALENDAR
VERSION:2.0
PRODID:-//Zillman Art Museum - ECPv6.15.17.1//NONSGML v1.0//EN
CALSCALE:GREGORIAN
METHOD:PUBLISH
X-ORIGINAL-URL:https://zam.umaine.edu
X-WR-CALDESC:Events for Zillman Art Museum
REFRESH-INTERVAL;VALUE=DURATION:PT1H
X-Robots-Tag:noindex
X-PUBLISHED-TTL:PT1H
BEGIN:VTIMEZONE
TZID:America/New_York
BEGIN:DAYLIGHT
TZOFFSETFROM:-0500
TZOFFSETTO:-0400
TZNAME:EDT
DTSTART:20170312T070000
END:DAYLIGHT
BEGIN:STANDARD
TZOFFSETFROM:-0400
TZOFFSETTO:-0500
TZNAME:EST
DTSTART:20171105T060000
END:STANDARD
BEGIN:DAYLIGHT
TZOFFSETFROM:-0500
TZOFFSETTO:-0400
TZNAME:EDT
DTSTART:20180311T070000
END:DAYLIGHT
BEGIN:STANDARD
TZOFFSETFROM:-0400
TZOFFSETTO:-0500
TZNAME:EST
DTSTART:20181104T060000
END:STANDARD
BEGIN:DAYLIGHT
TZOFFSETFROM:-0500
TZOFFSETTO:-0400
TZNAME:EDT
DTSTART:20190310T070000
END:DAYLIGHT
BEGIN:STANDARD
TZOFFSETFROM:-0400
TZOFFSETTO:-0500
TZNAME:EST
DTSTART:20191103T060000
END:STANDARD
END:VTIMEZONE
BEGIN:VEVENT
DTSTART;TZID=America/New_York:20181012T163000
DTEND;TZID=America/New_York:20181012T173000
DTSTAMP:20260421T154655
CREATED:20181002T203018Z
LAST-MODIFIED:20181002T203018Z
UID:10005552-1539361800-1539365400@zam.umaine.edu
SUMMARY:Spotlight Gallery Opening Reception
DESCRIPTION:Join UMMA in celebrating Bangor High School students in the Visual and Performance Arts Academy for their opening reception on Friday\, October 12 at 4:30 pm. Light refreshments will be available\, and students will give remarks on their works at 5 PM.
URL:https://zam.umaine.edu/event/spotlight-gallery-opening-reception/
LOCATION:ME
END:VEVENT
END:VCALENDAR