BEGIN:VCALENDAR
VERSION:2.0
PRODID:-//Zillman Art Museum - ECPv6.15.17.1//NONSGML v1.0//EN
CALSCALE:GREGORIAN
METHOD:PUBLISH
X-WR-CALNAME:Zillman Art Museum
X-ORIGINAL-URL:https://zam.umaine.edu
X-WR-CALDESC:Events for Zillman Art Museum
REFRESH-INTERVAL;VALUE=DURATION:PT1H
X-Robots-Tag:noindex
X-PUBLISHED-TTL:PT1H
BEGIN:VTIMEZONE
TZID:America/New_York
BEGIN:DAYLIGHT
TZOFFSETFROM:-0500
TZOFFSETTO:-0400
TZNAME:EDT
DTSTART:20220313T070000
END:DAYLIGHT
BEGIN:STANDARD
TZOFFSETFROM:-0400
TZOFFSETTO:-0500
TZNAME:EST
DTSTART:20221106T060000
END:STANDARD
BEGIN:DAYLIGHT
TZOFFSETFROM:-0500
TZOFFSETTO:-0400
TZNAME:EDT
DTSTART:20230312T070000
END:DAYLIGHT
BEGIN:STANDARD
TZOFFSETFROM:-0400
TZOFFSETTO:-0500
TZNAME:EST
DTSTART:20231105T060000
END:STANDARD
BEGIN:DAYLIGHT
TZOFFSETFROM:-0500
TZOFFSETTO:-0400
TZNAME:EDT
DTSTART:20240310T070000
END:DAYLIGHT
BEGIN:STANDARD
TZOFFSETFROM:-0400
TZOFFSETTO:-0500
TZNAME:EST
DTSTART:20241103T060000
END:STANDARD
END:VTIMEZONE
BEGIN:VEVENT
DTSTART;TZID=America/New_York:20230401T110000
DTEND;TZID=America/New_York:20230401T140000
DTSTAMP:20260422T200149
CREATED:20230207T170621Z
LAST-MODIFIED:20230207T171651Z
UID:10002820-1680346800-1680357600@zam.umaine.edu
SUMMARY:Family Drop-in Art Making Session
DESCRIPTION:Relief Printing \nFrom 11am to 2pm – Saturday\, we will have a drop in session with two options of printing – linoleum and Scratch Foam. The tools used for linoleum\, or Lino-cut\, are rather sharp and better for artists with more experience. Scratch Foam Relief Printing is for all ages. \nSupported [in part] by a grant from the
URL:https://zam.umaine.edu/event/family-drop-in-art-making-session-3/
LOCATION:University of Maine Museum of Art\, 40 Harlow Street\, Bangor\, ME\, 04401\, United States
GEO:44.8031767;-68.7705637
X-APPLE-STRUCTURED-LOCATION;VALUE=URI;X-ADDRESS=University of Maine Museum of Art 40 Harlow Street Bangor ME 04401 United States;X-APPLE-RADIUS=500;X-TITLE=40 Harlow Street:geo:-68.7705637,44.8031767
END:VEVENT
BEGIN:VEVENT
DTSTART;TZID=America/New_York:20230405T120000
DTEND;TZID=America/New_York:20230405T130000
DTSTAMP:20260422T200149
CREATED:20230317T191207Z
LAST-MODIFIED:20230321T174757Z
UID:10002823-1680696000-1680699600@zam.umaine.edu
SUMMARY:Art @ Noon
DESCRIPTION:Art @ Noon\nwith featured artist Jenny Brillhart \nPlease join us in ZAM’s upstairs galleries for an informal noon-time talk with Jenny Brillhart. The talk will focus on Brillhart’s creative process and works highlighted in the current exhibition Placement\, on view through April 21st. \n \nSupported [in part] by a grant from the
URL:https://zam.umaine.edu/event/art-noon/
LOCATION:University of Maine Museum of Art\, 40 Harlow Street\, Bangor\, ME\, 04401\, United States
GEO:44.8031767;-68.7705637
X-APPLE-STRUCTURED-LOCATION;VALUE=URI;X-ADDRESS=University of Maine Museum of Art 40 Harlow Street Bangor ME 04401 United States;X-APPLE-RADIUS=500;X-TITLE=40 Harlow Street:geo:-68.7705637,44.8031767
END:VEVENT
BEGIN:VEVENT
DTSTART;TZID=America/New_York:20230426T173000
DTEND;TZID=America/New_York:20230426T193000
DTSTAMP:20260422T200149
CREATED:20230414T190946Z
LAST-MODIFIED:20230414T190946Z
UID:10002824-1682530200-1682537400@zam.umaine.edu
SUMMARY:Leonard Lecture Series
DESCRIPTION:Zillman Art Museum’s Leonard Lecture Series presents: Gerry Stecca \nPlease join us for a dynamic presentation with artist Gerry Stecca – whose beloved clothespin installation has hung in the ZAM lobby since 2010. Stecca is a professor at the Savannah College of Art and Design. \n  \n 
URL:https://zam.umaine.edu/event/leonard-lecture-series-2/
LOCATION:ME
END:VEVENT
END:VCALENDAR