BEGIN:VCALENDAR
VERSION:2.0
PRODID:-//Zillman Art Museum - ECPv6.15.17.1//NONSGML v1.0//EN
CALSCALE:GREGORIAN
METHOD:PUBLISH
X-WR-CALNAME:Zillman Art Museum
X-ORIGINAL-URL:https://zam.umaine.edu
X-WR-CALDESC:Events for Zillman Art Museum
REFRESH-INTERVAL;VALUE=DURATION:PT1H
X-Robots-Tag:noindex
X-PUBLISHED-TTL:PT1H
BEGIN:VTIMEZONE
TZID:America/New_York
BEGIN:DAYLIGHT
TZOFFSETFROM:-0500
TZOFFSETTO:-0400
TZNAME:EDT
DTSTART:20160313T070000
END:DAYLIGHT
BEGIN:STANDARD
TZOFFSETFROM:-0400
TZOFFSETTO:-0500
TZNAME:EST
DTSTART:20161106T060000
END:STANDARD
BEGIN:DAYLIGHT
TZOFFSETFROM:-0500
TZOFFSETTO:-0400
TZNAME:EDT
DTSTART:20170312T070000
END:DAYLIGHT
BEGIN:STANDARD
TZOFFSETFROM:-0400
TZOFFSETTO:-0500
TZNAME:EST
DTSTART:20171105T060000
END:STANDARD
BEGIN:DAYLIGHT
TZOFFSETFROM:-0500
TZOFFSETTO:-0400
TZNAME:EDT
DTSTART:20180311T070000
END:DAYLIGHT
BEGIN:STANDARD
TZOFFSETFROM:-0400
TZOFFSETTO:-0500
TZNAME:EST
DTSTART:20181104T060000
END:STANDARD
END:VTIMEZONE
BEGIN:VEVENT
DTSTART;TZID=America/New_York:20170731T083000
DTEND;TZID=America/New_York:20170804T120000
DTSTAMP:20260423T131048
CREATED:20170512T170954Z
LAST-MODIFIED:20170512T170954Z
UID:10002876-1501489800-1501848000@zam.umaine.edu
SUMMARY:Summer Art Camp - Session 6
DESCRIPTION:UMMA presents the nineteenth annual Summer Art Camp! A fun\, educational art experience held at the Museum in the heart of downtown Bangor. \nSessions are held in the Museum classroom and galleries. Campers will have the opportunity to view and talk about art and participate in a wide array of hands-on art activities. \nProjects include print making\, drawing\, painting\, and sculpture. Children also enjoy time outdoors to create art in one of Bangor’s beautiful parks adjacent to UMMA. Each week is packed with activities\, gallery games\, scavenger hunts and a Friday reception and art show for family and friends. \nSPACE STILL AVAILABLE – Sign up today!
URL:https://zam.umaine.edu/event/summer-art-camp-session-6/
LOCATION:ME
END:VEVENT
BEGIN:VEVENT
DTSTART;TZID=America/New_York:20170807T083000
DTEND;TZID=America/New_York:20170811T120000
DTSTAMP:20260423T131048
CREATED:20170512T171031Z
LAST-MODIFIED:20170512T171031Z
UID:10005525-1502094600-1502452800@zam.umaine.edu
SUMMARY:Summer Art Camp - Session 7
DESCRIPTION:UMMA presents the nineteenth annual Summer Art Camp! A fun\, educational art experience held at the Museum in the heart of downtown Bangor. \nSessions are held in the Museum classroom and galleries. Campers will have the opportunity to view and talk about art and participate in a wide array of hands-on art activities. \nProjects include print making\, drawing\, painting\, and sculpture. Children also enjoy time outdoors to create art in one of Bangor’s beautiful parks adjacent to UMMA. Each week is packed with activities\, gallery games\, scavenger hunts and a Friday reception and art show for family and friends. \nSPACE STILL AVAILABLE – Sign up today!
URL:https://zam.umaine.edu/event/summer-art-camp-session-7/
LOCATION:ME
END:VEVENT
BEGIN:VEVENT
DTSTART;TZID=America/New_York:20170817T120000
DTEND;TZID=America/New_York:20170817T123000
DTSTAMP:20260423T131048
CREATED:20170519T164303Z
LAST-MODIFIED:20170815T150903Z
UID:10002865-1502971200-1502973000@zam.umaine.edu
SUMMARY:Finding Hope: Research Update on Alzheimer's Disease (CANCELED)
DESCRIPTION:Please note this event has been CANCELED.  \nCliff Singer\, MD\, Chief of Geriatric Mental Health and Neuropsychiatry at Acadia Hospital and Eastern Maine Medical Center will give an informal noontime talk on the most recent research into Alzheimer’s Disease. The talk will run roughly half an hour with time for questions at the end. This talk is FREE and open to the public. \n  \n   
URL:https://zam.umaine.edu/event/finding-hope-research-update-alzheimers-disease/
LOCATION:ME
END:VEVENT
BEGIN:VEVENT
DTSTART;TZID=America/New_York:20170831T173000
DTEND;TZID=America/New_York:20170831T193000
DTSTAMP:20260423T131048
CREATED:20170803T173223Z
LAST-MODIFIED:20170803T174800Z
UID:10002864-1504200600-1504207800@zam.umaine.edu
SUMMARY:TEE PARTY
DESCRIPTION:Wear your favorite T-Shirt and Celebrate Summer at UMMA’s \nTEE PARTY in the garden \nCome dressed in your favorite T-shirt (cool design\, message\, graphics\, et.) and compete for a prize! Each interested participant will have a chance to cast one vote for the best T-shirt worn to the event. The person whose T-Shirt gains the most votes will win a prize! Prize awarded at 7pm\, and you must be present to win. \nFork & Spoon will be on site with delicious summer food for purchase along with a cash bar featuring assorted beer\, wine\, and a specialty summer cocktail. There’s also a complimentary beer tasting station throughout the evening\, so bring your professional palate and see if you can tell which brew is which! \nProjections of videos and music from DJ Tanner will provide entertainment for the evening. Dan Dawson will be on site helping to staff a Screen printing Station where you can screen print your own tee! Bring your own shirt to ink up\, or purchase one at the booth (proceeds benefit Educational Programming at UMMA). \nThis is a night at the Museum you won’t want to miss! Socialize\, get creative\, and enjoy a beverage in the garden at UMMA’s Tee Party! This fun event runs in conjunction with Susan Barnett’s “I Wear What I Want” exhibition\, on view at the Museum through September 2nd.
URL:https://zam.umaine.edu/event/tee-party/
LOCATION:University of Maine Museum of Art\, 40 Harlow Street\, Bangor\, ME\, 04401\, United States
GEO:44.8031767;-68.7705637
X-APPLE-STRUCTURED-LOCATION;VALUE=URI;X-ADDRESS=University of Maine Museum of Art 40 Harlow Street Bangor ME 04401 United States;X-APPLE-RADIUS=500;X-TITLE=40 Harlow Street:geo:-68.7705637,44.8031767
END:VEVENT
END:VCALENDAR