BEGIN:VCALENDAR
VERSION:2.0
PRODID:-//Zillman Art Museum - ECPv6.15.17.1//NONSGML v1.0//EN
CALSCALE:GREGORIAN
METHOD:PUBLISH
X-WR-CALNAME:Zillman Art Museum
X-ORIGINAL-URL:https://zam.umaine.edu
X-WR-CALDESC:Events for Zillman Art Museum
REFRESH-INTERVAL;VALUE=DURATION:PT1H
X-Robots-Tag:noindex
X-PUBLISHED-TTL:PT1H
BEGIN:VTIMEZONE
TZID:America/New_York
BEGIN:DAYLIGHT
TZOFFSETFROM:-0500
TZOFFSETTO:-0400
TZNAME:EDT
DTSTART:20230312T070000
END:DAYLIGHT
BEGIN:STANDARD
TZOFFSETFROM:-0400
TZOFFSETTO:-0500
TZNAME:EST
DTSTART:20231105T060000
END:STANDARD
BEGIN:DAYLIGHT
TZOFFSETFROM:-0500
TZOFFSETTO:-0400
TZNAME:EDT
DTSTART:20240310T070000
END:DAYLIGHT
BEGIN:STANDARD
TZOFFSETFROM:-0400
TZOFFSETTO:-0500
TZNAME:EST
DTSTART:20241103T060000
END:STANDARD
BEGIN:DAYLIGHT
TZOFFSETFROM:-0500
TZOFFSETTO:-0400
TZNAME:EDT
DTSTART:20250309T070000
END:DAYLIGHT
BEGIN:STANDARD
TZOFFSETFROM:-0400
TZOFFSETTO:-0500
TZNAME:EST
DTSTART:20251102T060000
END:STANDARD
END:VTIMEZONE
BEGIN:VEVENT
DTSTART;TZID=America/New_York:20241207T120000
DTEND;TZID=America/New_York:20241207T150000
DTSTAMP:20260419T113927
CREATED:20241113T175824Z
LAST-MODIFIED:20241113T175933Z
UID:10005579-1733572800-1733583600@zam.umaine.edu
SUMMARY:Winter Art Factory
DESCRIPTION:Bring your kids and join us as we celebrate the upcoming holidays by creating holiday inspired arts and crafts. Saturday\, Dec. 7th from 12pm to 3pm. Art Factory is sponsored by our friends at WBRC.
URL:https://zam.umaine.edu/event/winter-art-factory-6/
LOCATION:University of Maine Museum of Art\, 40 Harlow Street\, Bangor\, ME\, 04401\, United States
ATTACH;FMTTYPE=image/jpeg:https://zam.umaine.edu/wp-content/uploads/sites/96/2024/11/Art-Factory-2.jpg
GEO:44.8031767;-68.7705637
X-APPLE-STRUCTURED-LOCATION;VALUE=URI;X-ADDRESS=University of Maine Museum of Art 40 Harlow Street Bangor ME 04401 United States;X-APPLE-RADIUS=500;X-TITLE=40 Harlow Street:geo:-68.7705637,44.8031767
END:VEVENT
END:VCALENDAR