BEGIN:VCALENDAR
VERSION:2.0
PRODID:-//Zillman Art Museum - ECPv6.15.17.1//NONSGML v1.0//EN
CALSCALE:GREGORIAN
METHOD:PUBLISH
X-ORIGINAL-URL:https://zam.umaine.edu
X-WR-CALDESC:Events for Zillman Art Museum
REFRESH-INTERVAL;VALUE=DURATION:PT1H
X-Robots-Tag:noindex
X-PUBLISHED-TTL:PT1H
BEGIN:VTIMEZONE
TZID:America/New_York
BEGIN:DAYLIGHT
TZOFFSETFROM:-0500
TZOFFSETTO:-0400
TZNAME:EDT
DTSTART:20170312T070000
END:DAYLIGHT
BEGIN:STANDARD
TZOFFSETFROM:-0400
TZOFFSETTO:-0500
TZNAME:EST
DTSTART:20171105T060000
END:STANDARD
BEGIN:DAYLIGHT
TZOFFSETFROM:-0500
TZOFFSETTO:-0400
TZNAME:EDT
DTSTART:20180311T070000
END:DAYLIGHT
BEGIN:STANDARD
TZOFFSETFROM:-0400
TZOFFSETTO:-0500
TZNAME:EST
DTSTART:20181104T060000
END:STANDARD
BEGIN:DAYLIGHT
TZOFFSETFROM:-0500
TZOFFSETTO:-0400
TZNAME:EDT
DTSTART:20190310T070000
END:DAYLIGHT
BEGIN:STANDARD
TZOFFSETFROM:-0400
TZOFFSETTO:-0500
TZNAME:EST
DTSTART:20191103T060000
END:STANDARD
END:VTIMEZONE
BEGIN:VEVENT
DTSTART;TZID=America/New_York:20181017T180000
DTEND;TZID=America/New_York:20181017T193000
DTSTAMP:20260421T133313
CREATED:20180921T150817Z
LAST-MODIFIED:20180921T150817Z
UID:10002799-1539799200-1539804600@zam.umaine.edu
SUMMARY:ART21 Screening
DESCRIPTION:  \nThis ARTober\, UMMA will host a screening of Art21 – Art in the Twenty-First Century. This episode will focus on artists in the San Francisco Bay Area\, a longtime home for political progressives and technological pioneers. \nThe screening will run one hour and light refreshments will be available. This event is free and open to the public. Contact Senior Museum Educator Kat Johnson for more information.
URL:https://zam.umaine.edu/event/art21-screening/
LOCATION:University of Maine Museum of Art\, 40 Harlow Street\, Bangor\, ME\, 04401\, United States
GEO:44.8031767;-68.7705637
X-APPLE-STRUCTURED-LOCATION;VALUE=URI;X-ADDRESS=University of Maine Museum of Art 40 Harlow Street Bangor ME 04401 United States;X-APPLE-RADIUS=500;X-TITLE=40 Harlow Street:geo:-68.7705637,44.8031767
END:VEVENT
END:VCALENDAR