BEGIN:VCALENDAR
VERSION:2.0
PRODID:-//Zillman Art Museum - ECPv6.15.17.1//NONSGML v1.0//EN
CALSCALE:GREGORIAN
METHOD:PUBLISH
X-ORIGINAL-URL:https://zam.umaine.edu
X-WR-CALDESC:Events for Zillman Art Museum
REFRESH-INTERVAL;VALUE=DURATION:PT1H
X-Robots-Tag:noindex
X-PUBLISHED-TTL:PT1H
BEGIN:VTIMEZONE
TZID:America/New_York
BEGIN:DAYLIGHT
TZOFFSETFROM:-0500
TZOFFSETTO:-0400
TZNAME:EDT
DTSTART:20160313T070000
END:DAYLIGHT
BEGIN:STANDARD
TZOFFSETFROM:-0400
TZOFFSETTO:-0500
TZNAME:EST
DTSTART:20161106T060000
END:STANDARD
BEGIN:DAYLIGHT
TZOFFSETFROM:-0500
TZOFFSETTO:-0400
TZNAME:EDT
DTSTART:20170312T070000
END:DAYLIGHT
BEGIN:STANDARD
TZOFFSETFROM:-0400
TZOFFSETTO:-0500
TZNAME:EST
DTSTART:20171105T060000
END:STANDARD
BEGIN:DAYLIGHT
TZOFFSETFROM:-0500
TZOFFSETTO:-0400
TZNAME:EDT
DTSTART:20180311T070000
END:DAYLIGHT
BEGIN:STANDARD
TZOFFSETFROM:-0400
TZOFFSETTO:-0500
TZNAME:EST
DTSTART:20181104T060000
END:STANDARD
END:VTIMEZONE
BEGIN:VEVENT
DTSTART;TZID=America/New_York:20171014T110000
DTEND;TZID=America/New_York:20171014T150000
DTSTAMP:20260421T130208
CREATED:20170929T183614Z
LAST-MODIFIED:20170929T183614Z
UID:10002863-1507978800-1507993200@zam.umaine.edu
SUMMARY:CRAFTERNOON @ UMMA
DESCRIPTION:Come to the classroom of the Museum for an afternoon of crafting fun! We’ll have all your project favorites including paper\, beads\, glue\, fabric\, yarn\, paint and much\, much more! All materials are provided\, all you need to bring is your imagination! \nThis event is FREE\, for all ages and open to the public. Please join UMMA in celebrating ARTober with Downtown Bangor!
URL:https://zam.umaine.edu/event/crafternoon-umma/
LOCATION:University of Maine Museum of Art\, 40 Harlow Street\, Bangor\, ME\, 04401\, United States
GEO:44.8031767;-68.7705637
X-APPLE-STRUCTURED-LOCATION;VALUE=URI;X-ADDRESS=University of Maine Museum of Art 40 Harlow Street Bangor ME 04401 United States;X-APPLE-RADIUS=500;X-TITLE=40 Harlow Street:geo:-68.7705637,44.8031767
END:VEVENT
END:VCALENDAR