BEGIN:VCALENDAR
VERSION:2.0
PRODID:-//Zillman Art Museum - ECPv6.15.17.1//NONSGML v1.0//EN
CALSCALE:GREGORIAN
METHOD:PUBLISH
X-ORIGINAL-URL:https://zam.umaine.edu
X-WR-CALDESC:Events for Zillman Art Museum
REFRESH-INTERVAL;VALUE=DURATION:PT1H
X-Robots-Tag:noindex
X-PUBLISHED-TTL:PT1H
BEGIN:VTIMEZONE
TZID:America/New_York
BEGIN:DAYLIGHT
TZOFFSETFROM:-0500
TZOFFSETTO:-0400
TZNAME:EDT
DTSTART:20150308T070000
END:DAYLIGHT
BEGIN:STANDARD
TZOFFSETFROM:-0400
TZOFFSETTO:-0500
TZNAME:EST
DTSTART:20151101T060000
END:STANDARD
BEGIN:DAYLIGHT
TZOFFSETFROM:-0500
TZOFFSETTO:-0400
TZNAME:EDT
DTSTART:20160313T070000
END:DAYLIGHT
BEGIN:STANDARD
TZOFFSETFROM:-0400
TZOFFSETTO:-0500
TZNAME:EST
DTSTART:20161106T060000
END:STANDARD
BEGIN:DAYLIGHT
TZOFFSETFROM:-0500
TZOFFSETTO:-0400
TZNAME:EDT
DTSTART:20170312T070000
END:DAYLIGHT
BEGIN:STANDARD
TZOFFSETFROM:-0400
TZOFFSETTO:-0500
TZNAME:EST
DTSTART:20171105T060000
END:STANDARD
END:VTIMEZONE
BEGIN:VEVENT
DTSTART;TZID=America/New_York:20161208T080000
DTEND;TZID=America/New_York:20161208T170000
DTSTAMP:20260421T143602
CREATED:20161108T202200Z
LAST-MODIFIED:20240124T192008Z
UID:10005571-1481184000-1481216400@zam.umaine.edu
SUMMARY:Salon Night at UMMA
DESCRIPTION:Join us for a community conversation on the themes raised by the work currently on exhibit at the museum. For this exhibition cycle\, we will focus on government’s involvement in the Arts\, inspired by the Contemporary Currents: Nine New Brunswick Artists exhibit. Panelists include Jesse Salisbury (artist\, Percent for Art recipient)\, Julie Horn (Visual Arts Director/Percent for Art Associate for the Maine Arts Commission)\, and Caroline Walker (Program Office\, New Brunswick Department of Tourism\, Heritage and Culture). Please contact 561.3360 for details on how to attend. \n 
URL:https://zam.umaine.edu/event/salon-night-umma/2016-12-08/1/
LOCATION:ME
END:VEVENT
BEGIN:VEVENT
DTSTART;TZID=America/New_York:20161208T180000
DTEND;TZID=America/New_York:20161208T200000
DTSTAMP:20260421T143602
CREATED:20161108T202200Z
LAST-MODIFIED:20240124T192008Z
UID:10002883-1481220000-1481227200@zam.umaine.edu
SUMMARY:Salon Night at UMMA
DESCRIPTION:Join us for a community conversation on the themes raised by the work currently on exhibit at the museum. For this exhibition cycle\, we will focus on government’s involvement in the Arts\, inspired by the Contemporary Currents: Nine New Brunswick Artists exhibit. Panelists include Jesse Salisbury (artist\, Percent for Art recipient)\, Julie Horn (Visual Arts Director/Percent for Art Associate for the Maine Arts Commission)\, and Caroline Walker (Program Office\, New Brunswick Department of Tourism\, Heritage and Culture). Please contact 561.3360 for details on how to attend. \n 
URL:https://zam.umaine.edu/event/salon-night-umma/2016-12-08/2/
LOCATION:ME
END:VEVENT
END:VCALENDAR